BEGIN:VCALENDAR
VERSION:2.0
PRODID:-//Library Market//iCal Export//EN
BEGIN:VEVENT
SUMMARY:Summer Reading Club Kickoff Party
UID:15806
DTSTAMP:20260424T194400Z
DTSTART:20260613T180000Z
DTEND:20260613T200000Z
LOCATION:Charlevoix Public Library, 220 West Clinton St, Charlevoix, MI 49
 720, United States
ROOM: Outside Grounds
DESCRIPTION:Stop by the library to kick off Summer Reading Club! The theme
  this year is Unearth a Story! We invite you to dig into a good book, unco
 ver hidden histories, and/or explore the past. It is all about the joy of 
 discovery that reading brings. Dwain Martin A. will be playing music at 2p
 m. At 3pm, prepare to be wowed by Clark Lewis’ Juggling Stunt Show-a thr
 illing, action-packed experience! The Kiwanis Hot Dog Truck will be here w
 ith free hot dogs and snacks. The Charlevoix Conservation District, Charle
 voix Evening Garden Club, Charlevoix Garden Club, and Charlevoix Historica
 l Society will also join us and provide information and additional activit
 ies! Pick up your summer reading logs while you are here. Summer Reading C
 lub is for adults and kids! Time spent reading this summer means awesome p
 rizes for readers of all ages.  
URL:https://data.charlevoixlibrary.org/event/summer-reading-club-kickoff-p
 arty-15806
END:VEVENT
END:VCALENDAR
