BEGIN:VCALENDAR
VERSION:2.0
PRODID:-//Library Market//iCal Export//EN
BEGIN:VEVENT
SUMMARY:Jazz at the Library Concert Series
UID:15802
DTSTAMP:20260424T191600Z
DTSTART:20260805T223000Z
DTEND:20260805T233000Z
LOCATION:Charlevoix Public Library, 220 West Clinton St, Charlevoix, MI 49
 720, United States
ROOM: Children&#039;s Garden
DESCRIPTION:The Steve Stargardt Trio is Andy Evans on bass, Jon Lindeneau 
 on drums, and Steve Stargardt on keys. They will be performing with specia
 l guests throughout the summer. The concerts take place in the Children&#0
 39;s Garden. Please bring your own chair. In inclement weather, the concer
 ts take place in the Community Room.     July 8: The Steve Stargardt T
 rio  July 15:  Chris Bickley on Sax July 29:  Bill and Laurie Sears o
 n Sax and Flute Aug. 5:  Claudia Schmidt and Laurie Sears on Vocals and 
 Sax/Flute Aug. 12:  Nancy Stagnitta on Flute Aug, 19: Family and Friend
 s JATL is sponsored by the generous donations of the Dion Family Charitab
 le Fund, Gnodtke Family in memory of Joan Robinson, Michael and Barbara Ni
 gro, Lynne &amp; Mason Rosenthal, Bobbie Rassieur Williams in memory of Bo
 b Williams, Melvy Lewis, Charlevoix Council for the Arts/Waterfront Art Fa
 ir, and patrons of Jazz at the Library.
URL:https://data.charlevoixlibrary.org/event/jazz-library-concert-series-1
 5802
END:VEVENT
END:VCALENDAR
