BEGIN:VCALENDAR
VERSION:2.0
PRODID:-//Library Market//iCal Export//EN
BEGIN:VEVENT
SUMMARY:Small group Inductive Bible study
UID:15790
DTSTAMP:20260421T162900Z
DTSTART:20260422T220000Z
DTEND:20260422T230000Z
LOCATION:Charlevoix Public Library, 220 West Clinton St, Charlevoix, MI 49
 720, United States
ROOM: Armstrong Conference Room
DESCRIPTION:Purpose to study the Bible with friends and invite the communi
 ty to join
URL:https://data.charlevoixlibrary.org/event/small-group-inductive-bible-s
 tudy-15790
END:VEVENT
END:VCALENDAR
