BEGIN:VCALENDAR
VERSION:2.0
PRODID:-//Library Market//iCal Export//EN
BEGIN:VEVENT
SUMMARY:Storytime at the Farmers Market
UID:15536
DTSTAMP:20260419T214000Z
DTSTART:20260611T143000Z
DTEND:20260611T150000Z
LOCATION:Charlevoix Farmers Market, 400 Bridge St, Charlevoix, MI 49720, U
 nited States
ROOM: Storytime at the Farmers Market
DESCRIPTION:Join our community at the Charlevoix Farmers Market for delici
 ous food, local vendors, and library fun! The Charlevoix Public Library wi
 ll host a booth during the market from 9am to 1pm – join us for bookish 
 crafts and keep an eye out for great prizes from the CPL Book Peddler! A f
 un, interactive storytime will take place at 10:30am at the Odmark Pavilio
 n. Bring a blanket to sit on! No registration required.
URL:https://data.charlevoixlibrary.org/event/storytime-farmers-market-1553
 6
END:VEVENT
END:VCALENDAR
