BEGIN:VCALENDAR
VERSION:2.0
PRODID:-//Library Market//iCal Export//EN
BEGIN:VEVENT
SUMMARY:Charlevoix Film Club: The Conversation
UID:15322
DTSTAMP:20260422T000900Z
DTSTART:20260618T210000Z
DTEND:20260618T233000Z
LOCATION:Charlevoix Public Library, 220 West Clinton St, Charlevoix, MI 49
 720, United States
ROOM: Community Room A
DESCRIPTION:Are you a film enthusiast? The Charlevoix Film Club will meet 
 on the 4th Thursday of the month at 5pm in Community Room A (unless otherw
 ise indicated). They will screen a movie at 5pm and have a lively discussi
 on afterwards! All are welcome.
URL:https://data.charlevoixlibrary.org/event/charlevoix-film-club-conversa
 tion-15322
END:VEVENT
END:VCALENDAR
