BEGIN:VCALENDAR
VERSION:2.0
PRODID:-//Library Market//iCal Export//EN
BEGIN:VEVENT
SUMMARY:The Golden Age of Passenger Steamships
UID:11959
DTSTAMP:20260424T201600Z
DTSTART:20260825T220000Z
DTEND:20260826T000000Z
LOCATION:Charlevoix Public Library, 220 West Clinton St, Charlevoix, MI 49
 720, United States
ROOM: Community Room A+B
DESCRIPTION:Maritime historian, Valerie van Heest, will take us back to th
 e late 19th century when STEAM powered industry, drove the economy, and cr
 eated a growing prosperity that generated a demand for recreational travel
  on luxurious passenger steamers circling the Great Lakes. In partnership 
 with The Charlevoix Historical Society. 
URL:https://data.charlevoixlibrary.org/event/adult-programming-11959
END:VEVENT
END:VCALENDAR
