BEGIN:VCALENDAR
VERSION:2.0
PRODID:-//Library Market//iCal Export//EN
BEGIN:VEVENT
SUMMARY:Schooners &amp; Lake Michigan Frontier
UID:11958
DTSTAMP:20260424T201600Z
DTSTART:20260818T220000Z
DTEND:20260819T000000Z
LOCATION:Charlevoix Public Library, 220 West Clinton St, Charlevoix, MI 49
 720, United States
ROOM: Community Room A+B
DESCRIPTION:Theodore J. Karamanski will take us back to the early days of 
 the Lake Michigan frontier. A time when the schooners served as the covere
 d wagons of the coastal region. Learn what it was like to make your living
  before the mast. In partnership with The Charlevoix Historical Society. 
URL:https://data.charlevoixlibrary.org/event/adult-programming-11958
END:VEVENT
END:VCALENDAR
