BEGIN:VCALENDAR
VERSION:2.0
PRODID:-//Library Market//iCal Export//EN
BEGIN:VEVENT
SUMMARY:The Life of Waunetta Dominic
UID:11957
DTSTAMP:20260424T201600Z
DTSTART:20260811T220000Z
DTEND:20260812T000000Z
LOCATION:Charlevoix Public Library, 220 West Clinton St, Charlevoix, MI 49
 720, United States
ROOM: Community Room A+B
DESCRIPTION:Jessica Dominic, granddaughter of Odawa rights activist Waunet
 ta McClellan Dominic, will present a rich history of her grandmother’s w
 ork in advocating for the adherence of treaty obligations between the US a
 nd native Americans. In partnership with the Charlevoix Historical Societ
 y. 
URL:https://data.charlevoixlibrary.org/event/adult-programming-11957
END:VEVENT
END:VCALENDAR
