BEGIN:VCALENDAR
VERSION:2.0
PRODID:-//Library Market//iCal Export//EN
BEGIN:VEVENT
SUMMARY:The Glorious Rise &amp; Epic Decline of the Charlevoix Beach Hotel
UID:11956
DTSTAMP:20260424T201600Z
DTSTART:20260804T220000Z
DTEND:20260805T000000Z
LOCATION:Charlevoix Public Library, 220 West Clinton St, Charlevoix, MI 49
 720, United States
ROOM: Community Room A+B
DESCRIPTION:Curator and local historian, David Miles, will present on one 
 of Charlevoix’s big resort hostelries, The Beach Hotel. The Beach was he
 re from 1899 to 1967 and went from being one of the most successful busine
 sses to being demolished by fire. In partnership with The Charlevoix Histo
 rical Society. 
URL:https://data.charlevoixlibrary.org/event/adult-programming-11956
END:VEVENT
END:VCALENDAR
