BEGIN:VCALENDAR
VERSION:2.0
PRODID:-//Library Market//iCal Export//EN
BEGIN:VEVENT
SUMMARY:History of Boyne City
UID:11955
DTSTAMP:20260424T191600Z
DTSTART:20260728T220000Z
DTEND:20260729T000000Z
LOCATION:Charlevoix Public Library, 220 West Clinton St, Charlevoix, MI 49
 720, United States
ROOM: Community Room A+B
DESCRIPTION:Patrick McCleary, a Certified Genealogist and local historian,
  will share the History of Boyne City. This presentation is based on his r
 esearch on area history for more than 40 years. In partnership with The Ch
 arlevoix Historical Society. 
URL:https://data.charlevoixlibrary.org/event/adult-programming-11955
END:VEVENT
END:VCALENDAR
