BEGIN:VCALENDAR
VERSION:2.0
PRODID:-//Library Market//iCal Export//EN
BEGIN:VEVENT
SUMMARY:What Can You Learn from a Cookbook?
UID:11953
DTSTAMP:20260424T201600Z
DTSTART:20260714T220000Z
DTEND:20260715T000000Z
LOCATION:Charlevoix Public Library, 220 West Clinton St, Charlevoix, MI 49
 720, United States
ROOM: Community Room A+B
DESCRIPTION:Even in these days of recipe blogs and food influencers, most 
 of us still have cookbooks in our homes. They teach us how to knead bread,
  roast chicken, or whip up a souffle. But what else can they teach us? Jul
 i McLoone, Curator of the University of Michigan Library’s Special Colle
 ctions Research Center, will discuss the unique and quirky things we can l
 earn by examining historic cookbooks and culinary documents from the culin
 ary archives housed at the University of Michigan Library Special Collecti
 ons Research Center.   
URL:https://data.charlevoixlibrary.org/event/adult-programming-11953
END:VEVENT
END:VCALENDAR
