BEGIN:VCALENDAR
VERSION:2.0
PRODID:-//Library Market//iCal Export//EN
BEGIN:VEVENT
SUMMARY:Making a Migratory Monarch with Dr. André Green, University of Mi
 chigan Biological Station
UID:11952
DTSTAMP:20260424T201600Z
DTSTART:20260707T220000Z
DTEND:20260708T000000Z
LOCATION:Charlevoix Public Library, 220 West Clinton St, Charlevoix, MI 49
 720, United States
ROOM: Community Room A+B
DESCRIPTION:Dr. André Green studies monarch butterfly migration. At both 
 the environmental and genetic basis, the assistant professor of ecology an
 d evolutionary biology at the University of Michigan investigates how the 
 marvelous insects manage such an impressively long, daunting journey and w
 hy their populations have been changing. Explore threats to the pollinator
 s as well as their biodiversity, resilience, and conservation.
URL:https://data.charlevoixlibrary.org/event/adult-programming-11952
END:VEVENT
END:VCALENDAR
