BEGIN:VCALENDAR
VERSION:2.0
PRODID:-//Library Market//iCal Export//EN
BEGIN:VEVENT
SUMMARY:Frankie &amp; the Crooners
UID:11951
DTSTAMP:20260424T201600Z
DTSTART:20260630T220000Z
DTEND:20260701T000000Z
LOCATION:Charlevoix Public Library, 220 West Clinton St, Charlevoix, MI 49
 720, United States
ROOM: Community Room A+B
DESCRIPTION:Billy McAllister will be back by popular demand to perform his
  Frank Sinatra Tribute concert. The concert will take place in the Childre
 n&#039;s Garden, so please bring your own chair. In inclement weather, the
  concert will take place in the Community Room. 
URL:https://data.charlevoixlibrary.org/event/adult-programming-11951
END:VEVENT
END:VCALENDAR
