BEGIN:VCALENDAR
VERSION:2.0
PRODID:-//Library Market//iCal Export//EN
BEGIN:VEVENT
SUMMARY:Environmental Health
UID:11948
DTSTAMP:20260424T201600Z
DTSTART:20260609T220000Z
DTEND:20260610T000000Z
LOCATION:Charlevoix Public Library, 220 West Clinton St, Charlevoix, MI 49
 720, United States
ROOM: Community Room A+B
DESCRIPTION:Educational staff from The Michigan Department of Health and H
 uman Services’ Environmental Health Bureau will teach us about important
  topics like protecting our local watersheds, enjoying fish from Michigan&
 #039;s Great Lakes, proper well maintenance, and much more. 
URL:https://data.charlevoixlibrary.org/event/adult-programming-11948
END:VEVENT
END:VCALENDAR
