BEGIN:VCALENDAR
VERSION:2.0
PRODID:-//Library Market//iCal Export//EN
BEGIN:VEVENT
SUMMARY:Lifelong Learning: Aging Lightly: Let’s Talk Now About Needing C
 are Later
UID:11947
DTSTAMP:20260424T201600Z
DTSTART:20260602T220000Z
DTEND:20260603T000000Z
LOCATION:Charlevoix Public Library, 220 West Clinton St, Charlevoix, MI 49
 720, United States
ROOM: Community Room A+B
DESCRIPTION:In this empowering talk, Kathryn McGrew, MSW, PhD will help us
  consider a new way of thinking about, talking about, and preparing for th
 e Fourth Age of life-a period of aging-related dependency on others for ca
 re. She will help us be as prepared as possible to age “lightly,” even
  in the face of possible chronic illness or disability later. Sponsored by
  the Friends of the Library. 
URL:https://data.charlevoixlibrary.org/event/adult-programming-11947
END:VEVENT
END:VCALENDAR
