BEGIN:VCALENDAR
VERSION:2.0
PRODID:-//Library Market//iCal Export//EN
BEGIN:VEVENT
SUMMARY:Lifelong Learning: The King of Confidence
UID:11946
DTSTAMP:20260424T201600Z
DTSTART:20260526T220000Z
DTEND:20260527T000000Z
LOCATION:Charlevoix Public Library, 220 West Clinton St, Charlevoix, MI 49
 720, United States
ROOM: Community Room A+B
DESCRIPTION:In the summer of 1853, a group of gunmen landed by boat in Cha
 rlevoix, ready to do battle with residents. These armed intruders were fol
 lowers of a rogue Mormon prophet named James J. Strang, who had establishe
 d his own quasi-independent kingdom on Beaver Island. Join author Miles Ha
 rvey as he tells the story of Strang&#039;s amazing life and violent death
 . Miles Harvey will be selling and signing copies of the book after the ev
 ent! Sponsored by the Friends of the Library. 
URL:https://data.charlevoixlibrary.org/event/adult-programming-11946
END:VEVENT
END:VCALENDAR
