BEGIN:VCALENDAR
VERSION:2.0
PRODID:-//Library Market//iCal Export//EN
BEGIN:VEVENT
SUMMARY:Naajimiijimedaa! (Letâ€™s Find Food!)
UID:11945
DTSTAMP:20260424T212800Z
DTSTART:20260519T220000Z
DTEND:20260520T000000Z
LOCATION:Charlevoix Public Library, 220 West Clinton St, Charlevoix, MI 49
 720, United States
ROOM: Community Room A+B
DESCRIPTION:The woods of Northern Michigan, the homeland of the Burt LakeÂ
  Band of Ottawa &amp; Chippewa Indians, has provided gifts from the land i
 n the form of food for generations upon generations. Join author Kathy Kae
  to learn more about foraging. Tribal Elder, Barb Richmond will make and s
 hare corn soup and frybread with attendees!Â Kathy will be selling and sig
 ning copies of the book after the event! Â 
URL:https://data.charlevoixlibrary.org/event/adult-programming-11945
END:VEVENT
END:VCALENDAR
