BEGIN:VCALENDAR
VERSION:2.0
PRODID:-//Library Market//iCal Export//EN
BEGIN:VEVENT
SUMMARY:Motherhood Mobility
UID:15170
DTSTAMP:20260424T060300Z
DTSTART:20260518T141500Z
DTEND:20260518T151500Z
LOCATION:Charlevoix Public Library, 220 West Clinton St, Charlevoix, MI 49
 720, United States
ROOM: Community Room B
DESCRIPTION:Come be in a community with other moms at the Charlevoix Publi
 c Library to support your body through all of the stages of motherhood. Wh
 en you become a mother, a new version of “you” is born too; investing 
 in getting to know her and take care of her is so worth it! We will practi
 ce gentle movement, basic pelvic mobility, and breathing techniques to sup
 port your mind and body through pregnancy, birth preparation, and postpart
 um healing.Feel free to bring hydration and an exercise mat! All non-crawl
 ing babies are welcome! This weekly offering is free to the community, how
 ever, a suggested donation of $10 per class would be greatly appreciated.H
 osted by Maddy Klingelsmith, RN and Birth + Postpartum Care ProfessionalQ
 uestions? Contact Maddy:Phone: 231-886-4398Email: madelynnerenee@gmail.com
URL:https://data.charlevoixlibrary.org/index.php/event/prenatal-mobility-1
 5170
END:VEVENT
END:VCALENDAR
